Workbook

Sheet 1b tesinys
A1: APLINKOS APSAUGOS, VERSLO, UŽIMTUMO RĖMIMO IR ŽEMĖS ŪKIO PLĖTROS PROGRAMOS
A2: lėšų poreikis (asignavimai) ir numatomi finansavimo šaltiniai
A4: (tūkst. Eur)
A5: Ekonominės klasifikacijos grupės | B5: 2023 m. projektas | C5: 2024 m. projektas | D5: 2025 m. projektas
A9: 1. Iš viso asignavimų | B9: =SUM('1 lentele'!G46) -> 538.6 | C9: =SUM('1 lentele'!I46) -> 568.2 | D9: =SUM('1 lentele'!K46) -> 628
A10: 1.1. iš jų darbo užmokesčiui | B10: ='1 lentele'!H46 -> 178.7 | C10: ='1 lentele'!J46 -> 179 | D10: ='1 lentele'!L46 -> 179
A11: 2. Finansavimo šaltiniai: | B11: =B12+B21 -> 538.6 | C11: =C12+C21 -> 568.2 | D11: =D12+D21 -> 628
A12: 2.1. Savivaldybės biudžetas: | B12: =B13+B14+B19+B20 -> 538.6 | C12: =C13+C14+C19+C20 -> 543.2 | D12: =D13+D14+D19+D20 -> 553
A13: 2.1.1. Savivaldybės biudžeto asignavimai savarankiškosioms funkcijoms vykdyti | B13: ='1 lentele'!G43 -> 197.5 | C13: ='1 lentele'!I43 -> 202 | D13: ='1 lentele'!K43 -> 211.7
A14: 2.1.2. Valstybės biudžeto dotacija | B14: =B16+B17+B18 -> 341.1 | C14: =C16+C17+C18 -> 341.2 | D14: =D16+D17+D18 -> 341.3
A15: iš jos:
A16: 2.1.2.1. valstybinėms (perduotoms savivaldybėms) funkcijoms vykdyti | B16: ='1 lentele'!G44 -> 341.1 | C16: ='1 lentele'!I44 -> 341.2 | D16: ='1 lentele'!K44 -> 341.3
A17: 2.1.2.2. mokinio krepšeliui finansuoti
A18: 2.1.2.3. kita tikslinė dotacija
A19: 2.1.3. Biudžetinių įstaigų pajamos
A20: 2.1.4. Skolintos lėšos
A21: 2.2. Kiti šaltiniai: | B21: =SUM(B22:B25) -> 0 | C21: =SUM(C22:C25) -> 25 | D21: =SUM(D22:D25) -> 75
A22: 2.2.1. Valstybės biudžeto lėšos
A23: 2.2.2. ES lėšos | B23: ='1 lentele'!G45 -> 0 | C23: ='1 lentele'!I45 -> 25 | D23: ='1 lentele'!K45 -> 75
A24: 2.2.3. Kelių priežiūros ir plėtros programos lėšos
A25: 2.2.4. Kitos lėšos

Sheet 1 lentele
M1: Aplinkos apsaugos, verslo, užimtumo rėmimo ir žemės ūkio plėtros programos suvestinės priedas
A2: 1 lentelė
A3: IGNALINOS RAJONO SAVIVALDYBĖS
A4: (savivaldybės, padalinio, įstaigos pavadinimas)
A5: APLINKOS APSAUGOS, VERSLO, UŽIMTUMO RĖMIMO IR ŽEMĖS ŪKIO PLĖTROS PROGRAMOS NR. 4
A6: TIKSLŲ, UŽDAVINIŲ, PRIEMONIŲ MAKSIMALIŲ ASIGNAVIMŲ IR PRODUKTO VERTINIMO KRITERIJŲ SUVESTINĖ
A7: tūkst. Eur.
A8: Programos tikslo kodas | B8: Uždavinio kodas | C8: Priemonės kodas | D8: Priemonės pavadinimas | E8: Priemonės vykdytojo kodas | F8: Finansavimo šaltinis | G8: 2023 m. projektas | I8: 2024 m. projektas | K8: 2025 m. projektas | M8: Uždavinio vertinimo kriterijaus
G9: Iš viso | H9: Iš jų darbo užmokesčiui | I9: Iš viso | J9: Iš jų darbo užmokesčiui | K9: Iš viso | L9: Iš jų darbo užmokesčiui | M9: Pavadinimas | N9: planas
N10: 2023 m. | O10: 2024 m. | P10: 2025 m.
A11: 3 Strateginis tikslas. Kurti kokybišką gyvenamąją aplinką, gerinti verslo ir žemės ūkio veiklos sąlygas
A12: 4 Programa. Aplinkos apsaugos, verslo, užimtumo rėmimo ir žemės ūkio plėtros programa
A13: 1 | B13: Sudaryti palankias sąlygas žemės ūkio veiklai, skatinti verslo plėtrą
A14: 1 | B14: 1 | C14: Užtikrinti tinkamą melioracijos statinių būklę ir žemės ūkio funkcijų vykdymą
A15: 1 | B15: 1 | C15: 1 | D15: Melioracijos statinių ir sistemų rekonstravimo, remonto ir priežiūros darbai | E15: 1.3, 1.9 | F15: SB(D) | G15: 155 | I15: 155 | K15: 155 | M15: Prižiūrimų melioracijos griovių ilgis (km) | N15: 13 | O15: 13 | P15: 13
M16: Pašalintų drenažo avarinių gedimų skaičius | N16: 6 | O16: 7 | P16: 7
F17: iš viso: | G17: =SUM(G15) -> 155 | H17: =SUM(H15) -> 0 | I17: =SUM(I15) -> 155 | J17: =SUM(J15) -> 0 | K17: =SUM(K15) -> 155 | L17: =SUM(L15) -> 0 | M17: Eksploatuojamų sausinimo siurblinių skaičius | N17: 2 | O17: 2 | P17: 2
A18: 1 | B18: 1 | C18: 2 | D18: Savivaldybės žemės ūkio funkcijų vykdymas | E18: 1.8, 19-22, 24-30 | F18: SB (D) | G18: 186.1 | H18: 178.7 | I18: 186.2 | J18: 179 | K18: 186.3 | L18: 179 | M18: Valstybės dotacijų, skirtų vykdyti valstybines (perduotas savivaldybėms) funkcijas, panaudojimas (proc.) | N18: 100 | O18: 100 | P18: 100
F19: iš viso: | G19: =SUM(G18:G18) -> 186.1 | H19: =SUM(H18:H18) -> 178.7 | I19: =SUM(I18:I18) -> 186.2 | J19: =SUM(J18:J18) -> 179 | K19: =SUM(K18:K18) -> 186.3 | L19: =SUM(L18:L18) -> 179
A20: 1 | B20: 1 | C20: Iš viso uždaviniui: | G20: =G17+G19 -> 341.1 | H20: =H17+H19 -> 178.7 | I20: =I17+I19 -> 341.2 | J20: =J17+J19 -> 179 | K20: =K17+K19 -> 341.3 | L20: =L17+L19 -> 179 | M20: - | N20: - | O20: - | P20: -
A21: 1 | B21: 2 | C21: Skatinti ir remti smulkaus ir vidutinio verslo subjektus
A22: 1 | B22: 2 | C22: 1 | D22: Savivaldybės smulkaus ir vidutinio verslo rėmimo įgyvendinimas pagal verslo rėmimo tvarką | E22: 1.6 | F22: SB | G22: 30 | I22: 30 | K22: 30 | M22: Smulkaus ir vidutinio verslo subjektų, gavusių paramą, skaičius | N22: 7 | O22: 7 | P22: 7
F23: iš viso | G23: =SUM(G22) -> 30 | H23: =SUM(H22) -> 0 | I23: =SUM(I22) -> 30 | J23: =SUM(J22) -> 0 | K23: =SUM(K22) -> 30 | L23: =SUM(L22) -> 0
M24: Tos pačios lyties asmenų, gavusių paramą, skaičius (proc.) | N24: 36 | O24: 37 | P24: 38
A26: 1 | B26: 2 | C26: Iš viso uždaviniui: | G26: =G23 -> 30 | H26: =H23 -> 0 | I26: =I23 -> 30 | J26: =J23 -> 0 | K26: =K23 -> 30 | L26: =L23 -> 0 | M26: - | N26: - | O26: - | P26: -
A27: 1 | B27: Iš viso tikslui: | G27: =SUM(G20,G26) -> 371.1 | H27: =SUM(H20,H26) -> 178.7 | I27: =SUM(I20,I26) -> 371.2 | J27: =SUM(J20,J26) -> 179 | K27: =SUM(K20,K26) -> 371.3 | L27: =SUM(L20,L26) -> 179 | M27: - | N27: - | O27: - | P27: -
A28: 2 | B28: Išsaugoti ir gerinti rajono aplinkos kokybę
A29: 2 | B29: 1 | C29: Gerinti užterštų teritorijų ir vandens telkinių būklę, mažinti taršos poveikį aplinkai, įgyvendinti įstatymuose numatytas įvairias prevencines ir kompensacines priemones
A30: 2 | B30: 1 | C30: 1 | D30: Savivaldybės aplinkos apsaugos rėmimo specialiosios programos įgyvendinimas | E30: 1.9 | F30: SB | G30: 167.5 | I30: 168 | K30: 168 | M30: Aplinkos apsaugos rėmimo specialiosios programos priemonių skaičius | N30: 8 | O30: 8 | P30: 8
F31: iš viso: | G31: =SUM(G30) -> 167.5 | H31: =SUM(H30) -> 0 | I31: =SUM(I30) -> 168 | J31: =SUM(J30) -> 0 | K31: =SUM(K30) -> 168 | L31: =SUM(L30) -> 0
A32: 2 | B32: 1 | C32: 2 | D32: Užterštų teritorijų ir vandens telkinių tvarkymas | E32: 1.9 | F32: SB | I32: 4 | K32: 13.7 | M32: Sutvarkytų užterštų (pažeistų) teritorijų skaičius | N32: 0 | O32: 0 | P32: 1
F33: SB (ES) | I33: 25 | K33: 75
F34: iš viso | G34: =SUM(G32:G33) -> 0 | H34: =SUM(H32:H33) -> 0 | I34: =SUM(I32:I33) -> 29 | J34: =SUM(J32:J33) -> 0 | K34: =SUM(K32:K33) -> 88.7 | L34: =SUM(L32:L33) -> 0
A35: 2 | B35: 1 | C35: 3 | D35: Aplinkos oro kokybės valdymo priemonės | E35: 1.8 | F35: SB | M35: Įgyvendintų priemonių skaičius | N35: 1 | O35: 2 | P35: 2
F36: iš viso | G36: =SUM(G35) -> 0 | H36: =SUM(H35:H35) -> 0 | I36: =SUM(I35:I35) -> 0 | J36: =SUM(J35:J35) -> 0 | K36: =SUM(K35:K35) -> 0 | L36: =SUM(L35:L35) -> 0
A37: 2 | B37: 1 | C37: 4 | D37: Nagrinėti fizinių ir juridinių asmenų skundus dėl keliamo triukšmo Ignalinos rajono savivaldybės teritorijoje, esant būtinumui organizuoti triukšmo matavimo tyrimus | E37: 1.8 | F37: SB | M37: Išnagrinėtų skundų skaičius | N37: 2 | O37: 3 | P37: 3
F38: iš viso | G38: =SUM(G37) -> 0 | H38: =SUM(H37:H37) -> 0 | I38: =SUM(I37:I37) -> 0 | J38: =SUM(J37:J37) -> 0 | K38: =SUM(K37:K37) -> 0 | L38: =SUM(L37:L37) -> 0
A39: 2 | B39: 1 | C39: Iš viso uždaviniui: | G39: =SUM(G31,G34,G36) -> 167.5 | H39: =SUM(H31,H34,H36) -> 0 | I39: =SUM(I31,I34,I36) -> 197 | J39: =SUM(J31,J34,J36) -> 0 | K39: =SUM(K31,K34,K36) -> 256.7 | L39: =SUM(L31,L34,L36) -> 0 | M39: - | N39: - | O39: - | P39: -
A40: 2 | B40: Iš viso tikslui: | G40: =G39 -> 167.5 | H40: =H39 -> 0 | I40: =I39 -> 197 | J40: =J39 -> 0 | K40: =K39 -> 256.7 | L40: =L39 -> 0 | M40: - | N40: - | O40: - | P40: -
A41: Iš viso programai | G41: =G27+G40 -> 538.6 | H41: =H27+H40 -> 178.7 | I41: =I27+I40 -> 568.2 | J41: =J27+J40 -> 179 | K41: =K27+K40 -> 628 | L41: =L27+L40 -> 179 | M41: - | N41: - | O41: - | P41: -
...

Sheet 2 lentele
A2: 2 lentelė
A3: APLINKOS APSAUGOS, VERSLO, UŽIMTUMO RĖMIMO IR ŽEMĖS ŪKIO PLĖTROS PROGRAMOS VERTINIMO KRITERIJŲ SUVESTINĖ
A4: (programos pavadinimas)
A6: Strateginio tikslo kodas | B6: Programos kodas | C6: Programos tikslo kodas | D6: Uždavinio kodas | E6: Vertinimo kriterijus | F6: Vertinimo kriterijaus kodas | G6: 2023 m. planas | H6: 2024 m. planas | I6: 2025 m. planas
A7: 3 | E7: Bendrosios žemės ūkio produkcijos vertės pokytis (palyginti su ankstesniais metais) (proc.) | F7: E-3-1 | G7: 9 | H7: 9 | I7: 10
A8: 3 | B8: 4 | C8: 1 | E8: Patenkintų prašymų dėl melioracijos statinių remonto dalis nuo visų gautų (pagrįstų) prašymų (proc.) | F8: R-5-1-1 | G8: 16 | H8: 17 | I8: 17
A9: 3 | B9: 4 | C9: 1 | E9: Paramą gavusių SVV subjektų skaičiaus pokytis (palyginti su ankstesniais metais) (proc.) | F9: R-5-1-2 | G9: 4 | H9: 5 | I9: 5
A10: 3 | B10: 4 | C10: 1 | D10: 1 | E10: Prižiūrimų melioracijos griovių ilgis (km) | F10: P-5-1-1-1 | G10: ='1 lentele'!N15 -> 13 | H10: ='1 lentele'!O15 -> 13 | I10: ='1 lentele'!P15 -> 13
A11: 3 | B11: 4 | C11: 1 | D11: 1 | E11: Pašalintų drenažo avarinių gedimų skaičius | F11: P-5-1-1-2 | G11: ='1 lentele'!N16 -> 6 | H11: ='1 lentele'!O16 -> 7 | I11: ='1 lentele'!P16 -> 7
A12: 3 | B12: 4 | C12: 1 | D12: 1 | E12: Eksploatuojamų sausinimo siurblinių skaičius | F12: P-5-1-1-3 | G12: =SUM('1 lentele'!N17) -> 2 | H12: =SUM('1 lentele'!O17) -> 2 | I12: =SUM('1 lentele'!P17) -> 2
A13: 3 | B13: 4 | C13: 1 | D13: 1 | E13: Valstybės dotacijų, skirtų vykdyti valstybinėms (perduotoms savivaldybėms) funkcijoms, panaudojimas (proc.) | F13: P-5-1-1-4 | G13: ='2 lentele'!T21+SUM('1 lentele'!N18) -> 100 | H13: ='2 lentele'!U21+SUM('1 lentele'!O18) -> 100 | I13: ='2 lentele'!V21+SUM('1 lentele'!P18) -> 100
A14: 3 | B14: 4 | C14: 1 | D14: 2 | E14: Smulkaus ir vidutinio verslo subjektų, gavusių paramą, skaičius | F14: P-5-1-2-1 | G14: ='1 lentele'!N22 -> 7 | H14: ='1 lentele'!O22 -> 7 | I14: ='1 lentele'!P22 -> 7
A15: 3 | B15: 4 | C15: 1 | D15: 2 | E15: Tos pačios lyties asmenų, gavusių paramą, skaičius (proc.) | F15: P-5-1-2-2 | G15: =SUM('1 lentele'!N25) -> 0 | H15: =SUM('1 lentele'!O25) -> 0 | I15: =SUM('1 lentele'!P25) -> 0
A16: 3 | B16: 4 | C16: 2 | E16: Aplinkos apsaugos rėmimo specialiajai programai įgyvendinti panaudotų lėšų pokytis (palyginti su ankstesniais metais) (proc.) | F16: R-5-2-1 | G16: 3 | H16: 3 | I16: 3
A17: 3 | B17: 4 | C17: 2 | D17: 1 | E17: Aplinkos apsaugos rėmimo specialiosios programos priemonių skaičius | F17: P-5-2-1-1 | G17: ='1 lentele'!N30 -> 8 | H17: ='1 lentele'!O30 -> 8 | I17: ='1 lentele'!P30 -> 8
A18: 3 | B18: 4 | C18: 2 | D18: 1 | E18: Sutvarkytų užterštų (pažeistų) teritorijų skaičius | F18: P-5-2-1-2 | G18: ='1 lentele'!N32 -> 0 | H18: ='1 lentele'!O32 -> 0 | I18: ='1 lentele'!P32 -> 1
A19: 3 | B19: 4 | C19: 2 | D19: 1 | E19: Įgyvendintų priemonių skaičius | F19: P-5-2-1-3 | G19: =SUM('1 lentele'!N35) -> 1 | H19: =SUM('1 lentele'!O35) -> 2 | I19: =SUM('1 lentele'!P35) -> 2
A20: 3 | B20: 4 | C20: 2 | D20: 1 | E20: Išnagrinėtų skundų skaičius | F20: P-5-2-1-4 | G20: =SUM('1 lentele'!N38) -> 0 | H20: =SUM('1 lentele'!O38) -> 0 | I20: =SUM('1 lentele'!P38) -> 0
E22: ______________
