Workbook

Sheet 1b tesinys
A1: INFRASTRUKTŪROS OBJEKTŲ PLĖTROS IR PRIEŽIŪROS PROGRAMOS
A2: lėšų poreikis (asignavimai) ir numatomi finansavimo šaltiniai
A4: (tūkst. Eur)
A5: Ekonominės klasifikacijos grupės | B5: 2022 m. projektas | C5: 2023 m. projektas | D5: 2024 m. projektas
A9: 1. Iš viso asignavimų | B9: =SUM('1 lentele'!G83) -> 4504.4 | C9: =SUM('1 lentele'!I83) -> 4499.8 | D9: =SUM('1 lentele'!K83) -> 4065.2
A10: 1.1. iš jų darbo užmokesčiui | B10: ='1 lentele'!H83 -> 454.3 | C10: ='1 lentele'!J83 -> 440 | D10: ='1 lentele'!L83 -> 441
A11: 2. Finansavimo šaltiniai: | B11: =B12+B21 -> 4504.4 | C11: =C12+C21 -> 4499.8 | D11: =D12+D21 -> 4065.2
A12: 2.1. Savivaldybės biudžetas: | B12: =B13+B14+B19+B20 -> 3951.2 | C12: =C13+C14+C19+C20 -> 3586.2 | D12: =D13+D14+D19+D20 -> 3460.7
A13: 2.1.1. Savivaldybės biudžeto asignavimai savarankiškosioms funkcijoms vykdyti | B13: ='1 lentele'!G78 -> 2370.9 | C13: ='1 lentele'!I78 -> 2248 | D13: ='1 lentele'!K78 -> 2133.2
A14: 2.1.2. Valstybės biudžeto dotacija | B14: =B16+B17+B18 -> 1069.4 | C14: =C16+C17+C18 -> 1062 | D14: =D16+D17+D18 -> 1047
A15: iš jos:
A16: 2.1.2.1. valstybinėms (perduotoms savivaldybėms) funkcijoms vykdyti | B16: ='1 lentele'!G81 -> 1069.4 | C16: ='1 lentele'!I81 -> 1062 | D16: ='1 lentele'!K81 -> 1047
A17: 2.1.2.2. mokinio krepšeliui finansuoti
A18: 2.1.2.3. kita tikslinė dotacija
A19: 2.1.3. Biudžetinių įstaigų pajamos | B19: ='1 lentele'!G79 -> 94.4 | C19: ='1 lentele'!I79 -> 98 | D19: ='1 lentele'!K79 -> 107.5
A20: 2.1.4. Skolintos lėšos | B20: =SUM('1 lentele'!G80) -> 416.5 | C20: =SUM('1 lentele'!I80) -> 178.2 | D20: =SUM('1 lentele'!K80) -> 173
A21: 2.2. Kiti šaltiniai: | B21: =SUM(B22:B27) -> 553.2 | C21: =SUM(C22:C27) -> 913.6 | D21: =SUM(D22:D27) -> 604.5
A22: 2.2.1. Savivaldybės privatizavimo fondas
A23: 2.2.2. Valstybės biudžeto lėšos
A24: 2.2.3. ES lėšos | B24: ='1 lentele'!G82 -> 553.2 | C24: ='1 lentele'!I82 -> 913.6 | D24: ='1 lentele'!K82 -> 604.5
A25: 2.2.4. Kelių priežiūros ir plėtros programos lėšos
A26: 2.2.5. Privalomojo sveikatos draudimo fondo lėšos
A27: 2.2.6. Kitos lėšos

Sheet 1 lentele
M1: Infrastruktūros objektų plėtros ir priežiūros programos suvestinės priedas
A2: 1 lentelė
A3: IGNALINOS RAJONO SAVIVALDYBĖS
A4: (savivaldybės, padalinio, įstaigos pavadinimas)
A5: INFRASTRUKTŪROS OBJEKTŲ PLĖTROS IR PRIEŽIŪROS PROGRAMOS NR. 5
A6: TIKSLŲ, UŽDAVINIŲ, PRIEMONIŲ MAKSIMALIŲ ASIGNAVIMŲ IR PRODUKTO VERTINIMO KRITERIJŲ SUVESTINĖ
A7: tūkst. Eur
A8: Programos tikslo kodas | B8: Uždavinio kodas | C8: Priemonės kodas | D8: Priemonės pavadinimas | E8: Priemonės vykdytojo kodas | F8: Finansavimo šaltinis | G8: 2022 m. projektas | I8: 2023 m. projektas | K8: 2024 m. projektas | M8: Uždavinio vertinimo kriterijaus
G9: Iš viso | H9: Iš jų darbo užmokesčiui | I9: Iš viso | J9: Iš jų darbo užmokesčiui | K9: Iš viso | L9: Iš jų darbo užmokesčiui | M9: Pavadinimas | N9: planas
N10: 2022 m. | O10: 2023 m. | P10: 2024 m.
A11: 3 Strateginis tikslas. Kurti kokybišką gyvenamąją aplinką, gerinti verslo ir žemės ūkio veiklos sąlygas
A12: 5 Programa. Infrastruktūros objektų plėtros ir priežiūros programa
A13: 1 | B13: Užtikrinti darnią teritorinę plėtrą ir kokybišką gyvenamąją aplinką
A14: 1 | B14: 1 | C14: Prižiūrėti, atnaujinti ir plėsti viešąsias erdves ir objektus, gerinti būsto būklę
A15: 1 | B15: 1 | C15: 1 | D15: Seniūnijų viešojo ūkio išlaikymas | E15: 19-30 | F15: SB | G15: 687 | I15: 690 | K15: 695 | M15: Seniūnijų, kurioms skirtos lėšos viešojo ūkio išlaikymui, skaičius | N15: 12 | O15: 12 | P15: 12
F16: iš viso: | G16: =SUM(G15:G15) -> 687 | H16: =SUM(H15:H15) -> 0 | I16: =SUM(I15:I15) -> 690 | J16: =SUM(J15:J15) -> 0 | K16: =SUM(K15:K15) -> 695 | L16: =SUM(L15:L15) -> 0
A17: 1 | B17: 1 | C17: 2 | D17: Komunalinio ūkio objektų, gyvenamųjų ir negyvenamųjų pastatų atnaujinimas, priežiūra ir plėtra | E17: 1.3, 1.9 | F17: SB | G17: 1058.8 | H17: 441.3 | I17: 950 | J17: 440 | K17: 990 | L17: 441 | M17: Atnaujintų ar naujai įrengtų komunalinio ūkio objektų ir negyvenamųjų pastatų skaičius | N17: 5 | O17: 4 | P17: 5
F18: SB (ES) | G18: 88.4 | H18: 7 | I18: 93 | K18: 105.5
F19: SB (P) | G19: 100
F20: SB (BĮP) | G20: 22 | I20: 22 | K20: 22.5
F21: SB (KD) | G21: 16.4 | I21: 17 | K21: 17
F22: iš viso: | G22: =SUM(G17:G21) -> 1285.6 | H22: =SUM(H17:H21) -> 448.3 | I22: =SUM(I17:I21) -> 1082 | J22: =SUM(J17:J21) -> 440 | K22: =SUM(K17:K21) -> 1135 | L22: =SUM(L17:L21) -> 441
A23: 1 | B23: 1 | C23: 3 | D23: Socialinio būsto rekonstrukcija ir plėtra | E23: 1.3, 1.9 | F23: SB | G23: 20 | I23: 20 | K23: 20 | M23: Įsigyto (suremontuoto) socialinio būsto skaičius | N23: 2 | O23: 2 | P23: 2
F24: iš viso: | G24: =SUM(G23:G23) -> 20 | H24: =SUM(H23:H23) -> 0 | I24: =SUM(I23:I23) -> 20 | J24: =SUM(J23:J23) -> 0 | K24: =SUM(K23:K23) -> 20 | L24: =SUM(L23:L23) -> 0
A25: 1 | B25: 1 | C25: 4 | D25: Daugiabučių namų atnaujinimas (modernizavimas) | E25: 1.9 | F25: SB | G25: 5 | I25: 10 | K25: 2 | M25: Atnaujintų daugiabučių gyvenamųjų namų skaičius | N25: 1 | O25: 2 | P25: 2
F26: SB (ES) | G26: 20 | I26: 40 | K26: 16
F27: iš viso: | G27: =SUM(G25:G26) -> 25 | H27: =SUM(H25:H26) -> 0 | I27: =SUM(I25:I26) -> 50 | J27: =SUM(J25:J26) -> 0 | K27: =SUM(K25:K26) -> 18 | L27: =SUM(L25:L26) -> 0
A28: 1 | B28: 1 | C28: 5 | D28: Socialinio ir tarnybinio būsto administravimas ir priežiūra | E28: 1.7 | F28: SB (BĮP) | G28: 60.9 | I28: 56 | K28: 57 | M28: - | N28: - | O28: - | P28: -
F29: iš viso: | G29: =SUM(G28) -> 60.9 | H29: =SUM(H28) -> 0 | I29: =SUM(I28) -> 56 | J29: =SUM(J28) -> 0 | K29: =SUM(K28) -> 57 | L29: =SUM(L28) -> 0
A30: 1 | B30: 1 | C30: 6 | D30: Miestų ir gyvenviečių gatvių apšvietimas, apšvietimo tinklų eksploatacija | E30: 1.9, 19-30 | F30: SB | G30: 1 | I30: 1 | K30: 1.2 | M30: Įsigytų naujų šviestuvų skaičius | N30: 10 | O30: 5 | P30: 8
F31: SB (ES)
F32: iš viso: | G32: =SUM(G30:G31) -> 1 | H32: =SUM(H30:H31) -> 0 | I32: =SUM(I30:I31) -> 1 | J32: =SUM(J30:J31) -> 0 | K32: =SUM(K30:K31) -> 1.2 | L32: =SUM(L30:L31) -> 0
A33: 1 | B33: 1 | C33: 7 | D33: Inžinerinių tinklų rekonstrukcija ir plėtra (vandentiekio, nuotekų, šildymo sistemų tinklų) | E33: 1.3, 1.9 | F33: SB | G33: 15 | I33: 165 | K33: 65 | M33: Rekonstruotų ir naujai įrengtų inžinerinių tinklų ilgis (km) | N33: 2 | O33: 1 | P33: 1
F34: SB (P) | G34: 133.9
F35: SB (ES) | G35: 110.3 | H35: 6 | I35: 150 | K35: 50
F36: SB (KD) | G36: 25 | I36: 28 | K36: 20
F37: iš viso: | G37: =SUM(G33:G36) -> 284.2 | H37: =SUM(H33:H36) -> 6 | I37: =SUM(I33:I36) -> 343 | J37: =SUM(J33:J36) -> 0 | K37: =SUM(K33:K36) -> 135 | L37: =SUM(L33:L36) -> 0
A38: 1 | B38: 1 | C38: 8 | D38: Vietinės reikšmės kelių (gatvių) rekonstravimas ir plėtra (sandoriai) | E38: 1.3, 1.9 | F38: SB (KD) | G38: 583.6 | I38: 566 | K38: 568 | M38: Rekonstruotų vietinės reikšmės kelių (gatvių) ilgis (km) | N38: 2 | O38: 1 | P38: 1
F39: SB (P) | G39: 25.4 | I39: 13.5
F40: SB (ES) | G40: 40 | I40: 100
F41: iš viso: | G41: =SUM(G38:G40) -> 649 | H41: =SUM(H38:H40) -> 0 | I41: =SUM(I38:I40) -> 679.5 | J41: =SUM(J38:J40) -> 0 | K41: =SUM(K38:K40) -> 568 | L41: =SUM(L38:L40) -> 0
A42: 1 | B42: 1 | C42: 9 | D42: Vietinės reikšmės kelių (gatvių) priežiūra (išlaidos) | E42: 1.3, 1.9 | F42: SB (KD) | G42: 360.5 | I42: 361 | K42: 362 | M42: Prižiūrimų vietinės reikšmės kelių (gatvių) ilgis (km) | N42: 991 | O42: 991 | P42: 991
F43: iš viso: | G43: =SUM(G42:G42) -> 360.5 | H43: =SUM(H42:H42) -> 0 | I43: =SUM(I42:I42) -> 361 | J43: =SUM(J42:J42) -> 0 | K43: =SUM(K42:K42) -> 362 | L43: =SUM(L42:L42) -> 0
A44: 1 | B44: 1 | C44: 10 | D44: Mažos apimties infrastruktūros atnaujinimas kaimo vietovėse | E44: 1.3, 1.9 | F44: SB (P) | G44: 33 | I44: 34.7 | K44: 33 | M44: Įgyvendintų projektų skaičius | N44: 2 | O44: 1 | P44: 1
F45: SB (ES) | G45: 110 | I45: 158.6 | K45: 150
F46: iš viso: | G46: =SUM(G44:G45) -> 143 | H46: =SUM(H44:H45) -> 0 | I46: =SUM(I44:I45) -> 193.3 | J46: =SUM(J44:J45) -> 0 | K46: =SUM(K44:K45) -> 183 | L46: =SUM(L44:L45) -> 0
A47: 1 | B47: 1 | C47: 11 | D47: Viešųjų erdvių, kitos infrastruktūros ir kraštovaizdžio objektų atnaujinimas, priežiūra ir plėtra | E47: 1.3, 1.9 | F47: SB (P) | G47: 124.2 | I47: 130 | K47: 140 | M47: Atnaujintų ar naujai įrengtų viešųjų erdvių ir kraštovaizdžio objektų skaičius | N47: 3 | O47: 6 | P47: 2
F48: SB (ES) | G48: 184.5 | I48: 335 | K48: 250
F49: SB (KD) | G49: 25 | I49: 40 | K49: 30
F50: iš viso: | G50: =SUM(G47:G49) -> 333.7 | H50: =SUM(H47:H49) -> 0 | I50: =SUM(I47:I49) -> 505 | J50: =SUM(J47:J49) -> 0 | K50: =SUM(K47:K49) -> 420 | L50: =SUM(L47:L49) -> 0
A51: 1 | B51: 1 | C51: 12 | D51: Saugaus eismo priemonių diegimas ir atnaujinimas | E51: 1.3, 1.9 | F51: SB (KD) | G51: 55.9 | I51: 47 | K51: 47 | M51: Panaudota lėšų priemonių įgyvendinimui proc. | N51: 100 | O51: 100 | P51: 100
F52: iš viso: | G52: =SUM(G51:G51) -> 55.9 | H52: =SUM(H51:H51) -> 0 | I52: =SUM(I51:I51) -> 47 | J52: =SUM(J51:J51) -> 0 | K52: =SUM(K51:K51) -> 47 | L52: =SUM(L51:L51) -> 0
A53: 1 | B53: 1 | C53: 13 | D53: Dotacijos ir investicijos piniginėmis lėšomis ir nekilnojamuoju turtu į savivaldybės įstaigas ir savivaldybės kontroliuojamas bendroves | E53: 1.9, 1.6 | F53: SB | G53: 500 | I53: 350 | K53: 300 | M53: Atnaujintų savivaldybės įstaigų ir savivaldybės kontroliuojamų bendrovių skaičius | N53: 5 | O53: 5 | P53: 4
F54: iš viso: | G54: =SUM(G53:G53) -> 500 | H54: =SUM(H53:H53) -> 0 | I54: =SUM(I53:I53) -> 350 | J54: =SUM(J53:J53) -> 0 | K54: =SUM(K53:K53) -> 300 | L54: =SUM(L53:L53) -> 0
A55: 1 | B55: 1 | C55: 14 | D55: Socialinio būsto nuoma rinkoje | E55: 1.7 | F55: SB (BĮP) | G55: 4.7 | I55: 5 | K55: 5 | M55: Išnuomotų būstų skaičius | N55: 2 | O55: 2 | P55: 3
F56: iš viso: | G56: =SUM(G55) -> 4.7 | H56: =SUM(H55) -> 0 | I56: =SUM(I55) -> 5 | J56: =SUM(J55) -> 0 | K56: =SUM(K55) -> 5 | L56: =SUM(L55) -> 0
A57: 1 | B57: 1 | C57: 15 | D57: Geriamojo vandens tiekimo ir nuotekų, įskaitant paviršines nuotekas, tvarkymo inžinerinių statinių plėtra | E57: 1.9 | F57: SB (BĮP) | G57: 6.8 | I57: 10 | K57: 15 | M57: Atnaujintos vandens ir nuotekų infrastruktūros ilgis, m | N57: 200 | O57: 500 | P57: 800
F58: iš viso: | G58: =SUM(G57) -> 6.8 | H58: =SUM(H57) -> 0 | I58: =SUM(I57) -> 10 | J58: =SUM(J57) -> 0 | K58: =SUM(K57) -> 15 | L58: =SUM(L57) -> 0
A59: 1 | B59: 1 | C59: 16 | D59: Šilumos perdavimo tinklų plėtra | E59: 1.9 | F59: SB | I59: 2 | K59: 4 | M59: Atnaujintos susisiekimo infrastruktūros ilgis, m | N59: 0 | O59: 100 | P59: 200
F60: iš viso: | G60: =SUM(G59) -> 0 | H60: =SUM(H59) -> 0 | I60: =SUM(I59) -> 2 | J60: =SUM(J59) -> 0 | K60: =SUM(K59) -> 4 | L60: =SUM(L59) -> 0
A61: 1 | B61: 1 | C61: 17 | D61: Švietimo ir mokslo, sveikatos, sporto paskirties statinių plėtra | E61: 1.9 | F61: SB | I61: 3 | K61: 4 | M61: Atnaujintų objektų skaičius | N61: 0 | O61: 1 | P61: 1
F62: iš viso: | G62: =SUM(G61) -> 0 | H62: =SUM(H61) -> 0 | I62: =SUM(I61) -> 3 | J62: =SUM(J61) -> 0 | K62: =SUM(K61) -> 4 | L62: =SUM(L61) -> 0
A63: 1 | B63: 1 | C63: Iš viso uždaviniui: | G63: =G16+G22+G24+G27+G29+G32+G37+G41+G43+G46+G50+G52+G54+G56+G58+G60+G62 -> 4417.3 | H63: =H16+H22+H24+H27+H29+H32+H37+H41+H43+H46+H50+H52+H54+H56+H58+H60+H62 -> 454.3 | I63: =I16+I22+I24+I27+I29+I32+I37+I41+I43+I46+I50+I52+I54+I56+I58+I60+I62 -> 4397.8 | J63: =J16+J22+J24+J27+J29+J32+J37+J41+J43+J46+J50+J52+J54+J56+J58+J60+J62 -> 440 | K63: =K16+K22+K24+K27+K29+K32+K37+K41+K43+K46+K50+K52+K54+K56+K58+K60+K62 -> 3969.2 | L63: =L16+L22+L24+L27+L29+L32+L37+L41+L43+L46+L50+L52+L54+L56+L58+L60+L62 -> 441 | M63: - | N63: - | O63: - | P63: -
A64: 1 | B64: 2 | C64: Rengti projektų įgyvendinimo ir teritorijų planavimo dokumentus
A65: 1 | B65: 2 | C65: 1 | D65: Žemės sklypų kadastriniai matavimai ir reikalingų topografinių nuotraukų parengimas | E65: 1.11, 1.6 | F65: SB | G65: 20 | I65: 44 | K65: 45 | M65: Atliktų kadastrinių matavimų ir topografinių nuotraukų skaičius | N65: 20 | O65: 21 | P65: 22
F66: SB (ES) | I66: 2 | K66: 3
F67: iš viso: | G67: =SUM(G65:G66) -> 20 | H67: =SUM(H65:H66) -> 0 | I67: =SUM(I65:I66) -> 46 | J67: =SUM(J65:J66) -> 0 | K67: =SUM(K65:K66) -> 48 | L67: =SUM(L65:L66) -> 0
A68: 1 | B68: 2 | C68: 2 | D68: Galimybių studijų, investicinių projektų, techninių projektų parengimas, projektų ekspertizių atlikimas, draudimo paslaugos | E68: 1.3, 1.6, 1.9 | F68: SB | G68: 64.1 | I68: 18 | K68: 15 | M68: Parengtų projektų įgyvendinimo dokumentų skaičius | N68: 8 | O68: 7 | P68: 7
F69: SB (KD) | G69: 3 | I69: 3 | K69: 3
F70: SB (ES) | I70: 35 | K70: 30
F71: iš viso: | G71: =SUM(G68:G70) -> 67.1 | H71: =SUM(H68:H70) -> 0 | I71: =SUM(I68:I70) -> 56 | J71: =SUM(J68:J70) -> 0 | K71: =SUM(K68:K70) -> 48 | L71: =SUM(L68:L70) -> 0
A72: 1 | B72: 2 | C72: Iš viso uždaviniui: | G72: =G67+G71 -> 87.1 | H72: =H67+H71 -> 0 | I72: =I67+I71 -> 102 | J72: =J67+J71 -> 0 | K72: =K67+K71 -> 96 | L72: =L67+L71 -> 0 | M72: - | N72: - | O72: - | P72: -
A73: 1 | B73: Iš viso tikslui: | G73: =G63+G72 -> 4504.4 | H73: =H63+H72 -> 454.3 | I73: =I63+I72 -> 4499.8 | J73: =J63+J72 -> 440 | K73: =K63+K72 -> 4065.2 | L73: =L63+L72 -> 441 | M73: - | N73: - | O73: - | P73: -
A74: Iš viso programai: | G74: =G73 -> 4504.4 | H74: =H73 -> 454.3 | I74: =I73 -> 4499.8 | J74: =J73 -> 440 | K74: =K73 -> 4065.2 | L74: =L73 -> 441 | M74: - | N74: - | O74: - | P74: -
A78: Finansavimo šaltiniai | C78: Savivaldybės biudžeto lėšos | F78: SB | G78: =G15+G17++G23+G25+G30+G33+G53+G65+G68 -> 2370.9 | H78: =H15+H17++H23+H25+H30+H33+H53+H65+H68 -> 441.3 | I78: =I15+I17++I23+I25+I30+I33+I53+I65+I68 -> 2248 | J78: =J15+J17++J23+J25+J30+J33+J53+J65+J68 -> 440 | K78: =K15+K17++K23+K25+K30+K33+K53+K65+K68 -> 2133.2 | L78: =L15+L17++L23+L25+L30+L33+L53+L65+L68 -> 441
C79: Biudžetinių įstaigų pajamos | F79: SB(BĮP) | G79: =G28+G20+G55+G57+G59+G61 -> 94.4 | H79: =H28+H20+H55+H57+H59+H61 -> 0 | I79: =I28+I20+I55+I57+I59+I61 -> 98 | J79: =J28+J20+J55+J57+J59+J61 -> 0 | K79: =K28+K20+K55+K57+K59+K61 -> 107.5 | L79: =L28+L20+L55+L57+L59+L61 -> 0
C80: Paskolų lėšos | F80: SB (P) | G80: =SUM(G19+G34+G39+G44+G47) -> 416.5 | H80: =SUM(H19+H34+H39+H44+H47) -> 0 | I80: =SUM(I19+I34+I39+I44+I47) -> 178.2 | J80: =SUM(J19+J34+J39+J44+J47) -> 0 | K80: =SUM(K19+K34+K39+K44+K47) -> 173 | L80: =SUM(L19+L34+L39+L44+L47) -> 0
C81: Valstybinėms (perduotoms savivaldybėms) funkcijoms vykdyti | F81: SB(KD) | G81: =G21+G38+G42+G69+G51+G36+G49 -> 1069.4 | H81: =H21+H38+H42+H69+H51+H36+H49 -> 0 | I81: =I21+I38+I42+I69+I51+I36+I49 -> 1062 | J81: =J21+J38+J42+J69+J51+J36+J49 -> 0 | K81: =K21+K38+K42+K69+K51+K36+K49 -> 1047 | L81: =L21+L38+L42+L69+L51+L36+L49 -> 0
C82: Europos Sąjungos fondų investicijų lėšos | F82: SB (ES) | G82: =G18+G26+G35+G48+G45+G66+G70+G31+G40 -> 553.2 | H82: =H18+H26+H35+H48+H45+H66+H70+H31+H40 -> 13 | I82: =I18+I26+I35+I48+I45+I66+I70+I31+I40 -> 913.6 | J82: =J18+J26+J35+J48+J45+J66+J70+J31+J40 -> 0 | K82: =K18+K26+K35+K48+K45+K66+K70+K31+K40 -> 604.5 | L82: =L18+L26+L35+L48+L45+L66+L70+L31+L40 -> 0
G83: =SUM(G78:G82) -> 4504.4 | H83: =SUM(H78:H82) -> 454.3 | I83: =SUM(I78:I82) -> 4499.8 | J83: =SUM(J78:J82) -> 440 | K83: =SUM(K78:K82) -> 4065.2 | L83: =SUM(L78:L82) -> 441

Sheet 2 lentele
A2: 2 lentelė
A3: INFRASTRUKTŪROS OBJEKTŲ PLĖTROS IR PRIEŽIŪROS PROGRAMOS VERTINIMO KRITERIJŲ SUVESTINĖ
A4: (programos pavadinimas)
A6: Strateginio tikslo kodas | B6: Programos kodas | C6: Programos tikslo kodas | D6: Uždavinio kodas | E6: Vertinimo kriterijus | F6: Vertinimo kriterijaus kodas | G6: 2022 m. planas | H6: 2023 m. planas | I6: 2024 m. planas
A7: 3 | E7: Verslumo lygis (veikiančių mažų ir vidutinių įmonių skaičius, tenkantis 1000-iui gyventojų) | F7: E-3-2 | G7: 8.4 | H7: 8.5 | I7: 8.5
A8: 3 | B8: 6 | C8: 1 | E8: Įgyvendintų viešosios aplinkos ir objektų plėtros, atnaujinimo ir pritaikymo visuomenės poreikiams projektų skaičius | F8: R-6-1-1 | G8: 2 | H8: 4 | I8: 4
A9: 3 | B9: 6 | C9: 1 | D9: 1 | E9: Seniūnijų, kurioms skirtos lėšos viešojo ūkio išlaikymui, skaičius | F9: P-6-1-1-1 | G9: ='1 lentele'!N15 -> 12 | H9: ='1 lentele'!O15 -> 12 | I9: ='1 lentele'!P15 -> 12
A10: 3 | B10: 6 | C10: 1 | D10: 1 | E10: Atnaujintų ar naujai įrengtų komunalinio ūkio objektų ir negyvenamųjų pastatų skaičius | F10: P-6-1-1-2 | G10: ='1 lentele'!N17 -> 5 | H10: ='1 lentele'!O17 -> 4 | I10: ='1 lentele'!P17 -> 5
A11: 3 | B11: 6 | C11: 1 | D11: 1 | E11: Įsigyto (suremontuoto) socialinio būsto skaičius | F11: P-6-1-1-3 | G11: ='1 lentele'!N23 -> 2 | H11: ='1 lentele'!O23 -> 2 | I11: ='1 lentele'!P23 -> 2
A12: 3 | B12: 6 | C12: 1 | D12: 1 | E12: Atnaujintų daugiabučių gyvenamųjų namų skaičius | F12: P-6-1-1-4 | G12: ='1 lentele'!N25 -> 1 | H12: ='1 lentele'!O25 -> 2 | I12: ='1 lentele'!P25 -> 2
A13: 3 | B13: 6 | C13: 1 | D13: 1 | E13: Įsigytų naujų šviestuvų skaičius | F13: P-6-1-1-5 | G13: ='1 lentele'!N30 -> 10 | H13: ='1 lentele'!O30 -> 5 | I13: ='1 lentele'!P30 -> 8
A14: 3 | B14: 6 | C14: 1 | D14: 1 | E14: Rekonstruotų ir naujai įrengtų inžinerinių tinklų ilgis (km) | F14: P-6-1-1-6 | G14: ='1 lentele'!N33 -> 2 | H14: ='1 lentele'!O33 -> 1 | I14: ='1 lentele'!P33 -> 1
A15: 3 | B15: 6 | C15: 1 | D15: 1 | E15: Rekonstruotų vietinės reikšmės kelių (gatvių) ilgis (km) | F15: P-6-1-1-7 | G15: ='1 lentele'!N38 -> 2 | H15: ='1 lentele'!O38 -> 1 | I15: ='1 lentele'!P38 -> 1
A16: 3 | B16: 6 | C16: 1 | D16: 1 | E16: Prižiūrimų vietinės reikšmės kelių (gatvių) ilgis (km) | F16: P-6-1-1-8 | G16: ='1 lentele'!N42 -> 991 | H16: ='1 lentele'!O42 -> 991 | I16: ='1 lentele'!P42 -> 991
A17: 3 | B17: 6 | C17: 1 | D17: 1 | E17: Įgyvendintų projektų skaičius | F17: P-6-1-1-9 | G17: ='1 lentele'!N44 -> 2 | H17: ='1 lentele'!O44 -> 1 | I17: ='1 lentele'!P44 -> 1
A18: 3 | B18: 6 | C18: 1 | D18: 1 | E18: Atnaujintų ar naujai įrengtų viešųjų erdvių ir kraštovaizdžio objektų skaičius | F18: P-6-1-1-10 | G18: ='1 lentele'!N47 -> 3 | H18: ='1 lentele'!O47 -> 6 | I18: ='1 lentele'!P47 -> 2
A19: 3 | B19: 6 | C19: 1 | D19: 1 | E19: Panaudota lėšų priemonių įgyvendinimui (proc.) | F19: P-6-1-1-11 | G19: =SUM('1 lentele'!N51) -> 100 | H19: =SUM('1 lentele'!O51) -> 100 | I19: =SUM('1 lentele'!P51) -> 100
A20: 3 | B20: 6 | C20: 1 | D20: 1 | E20: Atnaujintų įstaigų ir savivaldybės kontroliuojamų bendrovių skaičius | F20: P-6-1-1-12 | G20: =SUM('1 lentele'!N53) -> 5 | H20: =SUM('1 lentele'!O53) -> 5 | I20: =SUM('1 lentele'!P53) -> 4
A21: 3 | B21: 6 | C21: 1 | D21: 1 | E21: Išnuomotų būstų skaičius | F21: P-6-1-1-13 | G21: =SUM('1 lentele'!N55) -> 2 | H21: =SUM('1 lentele'!O55) -> 2 | I21: =SUM('1 lentele'!P55) -> 3
A22: 3 | B22: 6 | C22: 1 | D22: 1 | E22: Atnaujintos vandens ir nuotekų infrastruktūros ilgis, m | F22: P-6-1-1-14 | G22: =SUM('1 lentele'!N57:N58) -> 200 | H22: =SUM('1 lentele'!O57:O58) -> 500 | I22: =SUM('1 lentele'!P57:P58) -> 800
A23: 3 | B23: 6 | C23: 1 | D23: 1 | E23: Atnaujintos susisiekimo infrastruktūros ilgis, m | F23: P-6-1-1-15 | G23: =SUM('1 lentele'!N59:N60) -> 0 | H23: =SUM('1 lentele'!O59:O60) -> 100 | I23: =SUM('1 lentele'!P59:P60) -> 200
A24: 3 | B24: 6 | C24: 1 | D24: 1 | E24: Atnaujintų objektų skaičius | F24: P-6-1-1-16 | G24: =SUM('1 lentele'!N60:N61) -> 0 | H24: =SUM('1 lentele'!O60:O61) -> 1 | I24: =SUM('1 lentele'!P60:P61) -> 1
A25: 3 | B25: 6 | C25: 1 | D25: 2 | E25: Atliktų kadastrinių matavimų ir topografinių nuotraukų skaičius | F25: P-6-1-2-1 | G25: ='1 lentele'!N65 -> 20 | H25: ='1 lentele'!O65 -> 21 | I25: ='1 lentele'!P65 -> 22
A26: 3 | B26: 6 | C26: 1 | D26: 2 | E26: Parengtų projektų įgyvendinimo dokumentų skaičius | F26: P-6-1-2-2 | G26: ='1 lentele'!N68 -> 8 | H26: ='1 lentele'!O68 -> 7 | I26: ='1 lentele'!P68 -> 7
E28: _____________
