Workbook

Sheet 1b tesinys
A1: INFRASTRUKTŪROS OBJEKTŲ PLĖTROS IR PRIEŽIŪROS PROGRAMOS
A2: lėšų poreikis (asignavimai) ir numatomi finansavimo šaltiniai
A4: (tūkst. Eur)
A5: Ekonominės klasifikacijos grupės | B5: 2022 m. projektas | C5: 2023 m. projektas | D5: 2024 m. projektas
A9: 1. Iš viso asignavimų | B9: =SUM('1 lentele'!G83) -> 4504.4 | C9: =SUM('1 lentele'!I83) -> 4499.8 | D9: =SUM('1 lentele'!K83) -> 4065.2
A10: 1.1. iš jų darbo užmokesčiui | B10: ='1 lentele'!H83 -> 454.3 | C10: ='1 lentele'!J83 -> 440 | D10: ='1 lentele'!L83 -> 441
A11: 2. Finansavimo šaltiniai: | B11: =B12+B21 -> 4504.4 | C11: =C12+C21 -> 4499.8 | D11: =D12+D21 -> 4065.2
A12: 2.1. Savivaldybės biudžetas: | B12: =B13+B14+B19+B20 -> 3951.2 | C12: =C13+C14+C19+C20 -> 3586.2 | D12: =D13+D14+D19+D20 -> 3460.7
A13: 2.1.1. Savivaldybės biudžeto asignavimai savarankiškosioms funkcijoms vykdyti | B13: ='1 lentele'!G78 -> 2370.9 | C13: ='1 lentele'!I78 -> 2248 | D13: ='1 lentele'!K78 -> 2133.2
A14: 2.1.2. Valstybės biudžeto dotacija | B14: =B16+B17+B18 -> 1069.4 | C14: =C16+C17+C18 -> 1062 | D14: =D16+D17+D18 -> 1047
A15: iš jos:
A16: 2.1.2.1. valstybinėms (perduotoms savivaldybėms) funkcijoms vykdyti | B16: ='1 lentele'!G81 -> 1069.4 | C16: ='1 lentele'!I81 -> 1062 | D16: ='1 lentele'!K81 -> 1047
A17: 2.1.2.2. mokinio krepšeliui finansuoti
A18: 2.1.2.3. kita tikslinė dotacija
A19: 2.1.3. Biudžetinių įstaigų pajamos | B19: ='1 lentele'!G79 -> 94.4 | C19: ='1 lentele'!I79 -> 98 | D19: ='1 lentele'!K79 -> 107.5
A20: 2.1.4. Skolintos lėšos | B20: =SUM('1 lentele'!G80) -> 416.5 | C20: =SUM('1 lentele'!I80) -> 178.2 | D20: =SUM('1 lentele'!K80) -> 173
A21: 2.2. Kiti šaltiniai: | B21: =SUM(B22:B27) -> 553.2 | C21: =SUM(C22:C27) -> 913.6 | D21: =SUM(D22:D27) -> 604.5
A22: 2.2.1. Savivaldybės privatizavimo fondas
A23: 2.2.2. Valstybės biudžeto lėšos
A24: 2.2.3. ES lėšos | B24: ='1 lentele'!G82 -> 553.2 | C24: ='1 lentele'!I82 -> 913.6 | D24: ='1 lentele'!K82 -> 604.5
A25: 2.2.4. Kelių priežiūros ir plėtros programos lėšos
A26: 2.2.5. Privalomojo sveikatos draudimo fondo lėšos
A27: 2.2.6. Kitos lėšos

Sheet 1 lentele
M1: Infrastruktūros objektų plėtros ir priežiūros programos suvestinės priedas
A2: 1 lentelė
A3: IGNALINOS RAJONO SAVIVALDYBĖS
A4: (savivaldybės, padalinio, įstaigos pavadinimas)
A5: INFRASTRUKTŪROS OBJEKTŲ PLĖTROS IR PRIEŽIŪROS PROGRAMOS NR. 5
A6: TIKSLŲ, UŽDAVINIŲ, PRIEMONIŲ MAKSIMALIŲ ASIGNAVIMŲ IR PRODUKTO VERTINIMO KRITERIJŲ SUVESTINĖ
A7: tūkst. Eur
A8: Programos tikslo kodas | B8: Uždavinio kodas | C8: Priemonės kodas | D8: Priemonės pavadinimas | E8: Priemonės vykdytojo kodas | F8: Finansavimo šaltinis | G8: 2022 m. projektas | I8: 2023 m. projektas | K8: 2024 m. projektas | M8: Uždavinio vertinimo kriterijaus
G9: Iš viso | H9: Iš jų darbo užmokesčiui | I9: Iš viso | J9: Iš jų darbo užmokesčiui | K9: Iš viso | L9: Iš jų darbo užmokesčiui | M9: Pavadinimas | N9: planas
N10: 2022 m. | O10: 2023 m. | P10: 2024 m.
A11: 3 Strateginis tikslas. Kurti kokybišką gyvenamąją aplinką, gerinti verslo ir žemės ūkio veiklos sąlygas
A12: 5 Programa. Infrastruktūros objektų plėtros ir priežiūros programa
A13: 1 | B13: Užtikrinti darnią teritorinę plėtrą ir kokybišką gyvenamąją aplinką
A14: 1 | B14: 1 | C14: Prižiūrėti, atnaujinti ir plėsti viešąsias erdves ir objektus, gerinti būsto būklę
A15: 1 | B15: 1 | C15: 1 | D15: Seniūnijų viešojo ūkio išlaikymas | E15: 19-30 | F15: SB | G15: 687 | I15: 690 | K15: 695 | M15: Seniūnijų, kurioms skirtos lėšos viešojo ūkio išlaikymui, skaičius | N15: 12 | O15: 12 | P15: 12
F16: iš viso: | G16: =SUM(G15:G15) -> 687 | H16: =SUM(H15:H15) -> 0 | I16: =SUM(I15:I15) -> 690 | J16: =SUM(J15:J15) -> 0 | K16: =SUM(K15:K15) -> 695 | L16: =SUM(L15:L15) -> 0
A17: 1 | B17: 1 | C17: 2 | D17: Komunalinio ūkio objektų, gyvenamųjų ir negyvenamųjų pastatų atnaujinimas, priežiūra ir plėtra | E17: 1.3, 1.9 | F17: SB | G17: 1058.8 | H17: 441.3 | I17: 950 | J17: 440 | K17: 990 | L17: 441 | M17: Atnaujintų ar naujai įrengtų komunalinio ūkio objektų ir negyvenamųjų pastatų skaičius | N17: 5 | O17: 4 | P17: 5
F18: SB (ES) | G18: 88.4 | H18: 7 | I18: 93 | K18: 105.5
F19: SB (P) | G19: 100
F20: SB (BĮP) | G20: 22 | I20: 22 | K20: 22.5
F21: SB (KD) | G21: 16.4 | I21: 17 | K21: 17
F22: iš viso: | G22: =SUM(G17:G21) -> 1285.6 | H22: =SUM(H17:H21) -> 448.3 | I22: =SUM(I17:I21) -> 1082 | J22: =SUM(J17:J21) -> 440 | K22: =SUM(K17:K21) -> 1135 | L22: =SUM(L17:L21) -> 441
A23: 1 | B23: 1 | C23: 3 | D23: Socialinio būsto rekonstrukcija ir plėtra | E23: 1.3, 1.9 | F23: SB | G23: 20 | I23: 20 | K23: 20 | M23: Įsigyto (suremontuoto) socialinio būsto skaičius | N23: 2 | O23: 2 | P23: 2
F24: iš viso: | G24: =SUM(G23:G23) -> 20 | H24: =SUM(H23:H23) -> 0 | I24: =SUM(I23:I23) -> 20 | J24: =SUM(J23:J23) -> 0 | K24: =SUM(K23:K23) -> 20 | L24: =SUM(L23:L23) -> 0
A25: 1 | B25: 1 | C25: 4 | D25: Daugiabučių namų atnaujinimas (modernizavimas) | E25: 1.9 | F25: SB | G25: 5 | I25: 10 | K25: 2 | M25: Atnaujintų daugiabučių gyvenamųjų namų skaičius | N25: 1 | O25: 2 | P25: 2
F26: SB (ES) | G26: 20 | I26: 40 | K26: 16
F27: iš viso: | G27: =SUM(G25:G26) -> 25 | H27: =SUM(H25:H26) -> 0 | I27: =SUM(I25:I26) -> 50 | J27: =SUM(J25:J26) -> 0 | K27: =SUM(K25:K26) -> 18 | L27: =SUM(L25:L26) -> 0
A28: 1 | B28: 1 | C28: 5 | D28: Socialinio ir tarnybinio būsto administravimas ir priežiūra | E28: 1.7 | F28: SB (BĮP) | G28: 60.9 | I28: 56 | K28: 57 | M28: - | N28: - | O28: - | P28: -
F29: iš viso: | G29: =SUM(G28) -> 60.9 | H29: =SUM(H28) -> 0 | I29: =SUM(I28) -> 56 | J29: =SUM(J28) -> 0 | K29: =SUM(K28) -> 57 | L29: =SUM(L28) -> 0
A30: 1 | B30: 1 | C30: 6 | D30: Miestų ir gyvenviečių gatvių apšvietimas, apšvietimo tinklų eksploatacija | E30: 1.9, 19-30 | F30: SB | G30: 1 | I30: 1 | K30: 1.2 | M30: Įsigytų naujų šviestuvų skaičius | N30: 10 | O30: 5 | P30: 8
F31: SB (ES)
F32: iš viso: | G32: =SUM(G30:G31) -> 1 | H32: =SUM(H30:H31) -> 0 | I32: =SUM(I30:I31) -> 1 | J32: =SUM(J30:J31) -> 0 | K32: =SUM(K30:K31) -> 1.2 | L32: =SUM(L30:L31) -> 0
A33: 1 | B33: 1 | C33: 7 | D33: Inžinerinių tinklų rekonstrukcija ir plėtra (vandentiekio, nuotekų, šildymo sistemų tinklų) | E33: 1.3, 1.9 | F33: SB | G33: 15 | I33: 165 | K33: 65 | M33: Rekonstruotų ir naujai įrengtų inžinerinių tinklų ilgis (km) | N33: 2 | O33: 1 | P33: 1
F34: SB (P) | G34: 133.9
F35: SB (ES) | G35: 110.3 | H35: 6 | I35: 150 | K35: 50
F36: SB (KD) | G36: 25 | I36: 28 | K36: 20
F37: iš viso: | G37: =SUM(G33:G36) -> 284.2 | H37: =SUM(H33:H36) -> 6 | I37: =SUM(I33:I36) -> 343 | J37: =SUM(J33:J36) -> 0 | K37: =SUM(K33:K36) -> 135 | L37: =SUM(L33:L36) -> 0
A38: 1 | B38: 1 | C38: 8 | D38: Vietinės reikšmės kelių (gatvių) rekonstravimas ir plėtra (sandoriai) | E38: 1.3, 1.9 | F38: SB (KD) | G38: 583.6 | I38: 566 | K38: 568 | M38: Rekonstruotų vietinės reikšmės kelių (gatvių) ilgis (km) | N38: 2 | O38: 1 | P38: 1
F39: SB (P) | G39: 25.4 | I39: 13.5
F40: SB (ES) | G40: 40 | I40: 100
...

Sheet 2 lentele
A2: 2 lentelė
A3: INFRASTRUKTŪROS OBJEKTŲ PLĖTROS IR PRIEŽIŪROS PROGRAMOS VERTINIMO KRITERIJŲ SUVESTINĖ
A4: (programos pavadinimas)
A6: Strateginio tikslo kodas | B6: Programos kodas | C6: Programos tikslo kodas | D6: Uždavinio kodas | E6: Vertinimo kriterijus | F6: Vertinimo kriterijaus kodas | G6: 2022 m. planas | H6: 2023 m. planas | I6: 2024 m. planas
A7: 3 | E7: Verslumo lygis (veikiančių mažų ir vidutinių įmonių skaičius, tenkantis 1000-iui gyventojų) | F7: E-3-2 | G7: 8.4 | H7: 8.5 | I7: 8.5
A8: 3 | B8: 6 | C8: 1 | E8: Įgyvendintų viešosios aplinkos ir objektų plėtros, atnaujinimo ir pritaikymo visuomenės poreikiams projektų skaičius | F8: R-6-1-1 | G8: 2 | H8: 4 | I8: 4
A9: 3 | B9: 6 | C9: 1 | D9: 1 | E9: Seniūnijų, kurioms skirtos lėšos viešojo ūkio išlaikymui, skaičius | F9: P-6-1-1-1 | G9: ='1 lentele'!N15 -> 12 | H9: ='1 lentele'!O15 -> 12 | I9: ='1 lentele'!P15 -> 12
A10: 3 | B10: 6 | C10: 1 | D10: 1 | E10: Atnaujintų ar naujai įrengtų komunalinio ūkio objektų ir negyvenamųjų pastatų skaičius | F10: P-6-1-1-2 | G10: ='1 lentele'!N17 -> 5 | H10: ='1 lentele'!O17 -> 4 | I10: ='1 lentele'!P17 -> 5
A11: 3 | B11: 6 | C11: 1 | D11: 1 | E11: Įsigyto (suremontuoto) socialinio būsto skaičius | F11: P-6-1-1-3 | G11: ='1 lentele'!N23 -> 2 | H11: ='1 lentele'!O23 -> 2 | I11: ='1 lentele'!P23 -> 2
A12: 3 | B12: 6 | C12: 1 | D12: 1 | E12: Atnaujintų daugiabučių gyvenamųjų namų skaičius | F12: P-6-1-1-4 | G12: ='1 lentele'!N25 -> 1 | H12: ='1 lentele'!O25 -> 2 | I12: ='1 lentele'!P25 -> 2
A13: 3 | B13: 6 | C13: 1 | D13: 1 | E13: Įsigytų naujų šviestuvų skaičius | F13: P-6-1-1-5 | G13: ='1 lentele'!N30 -> 10 | H13: ='1 lentele'!O30 -> 5 | I13: ='1 lentele'!P30 -> 8
A14: 3 | B14: 6 | C14: 1 | D14: 1 | E14: Rekonstruotų ir naujai įrengtų inžinerinių tinklų ilgis (km) | F14: P-6-1-1-6 | G14: ='1 lentele'!N33 -> 2 | H14: ='1 lentele'!O33 -> 1 | I14: ='1 lentele'!P33 -> 1
A15: 3 | B15: 6 | C15: 1 | D15: 1 | E15: Rekonstruotų vietinės reikšmės kelių (gatvių) ilgis (km) | F15: P-6-1-1-7 | G15: ='1 lentele'!N38 -> 2 | H15: ='1 lentele'!O38 -> 1 | I15: ='1 lentele'!P38 -> 1
A16: 3 | B16: 6 | C16: 1 | D16: 1 | E16: Prižiūrimų vietinės reikšmės kelių (gatvių) ilgis (km) | F16: P-6-1-1-8 | G16: ='1 lentele'!N42 -> 991 | H16: ='1 lentele'!O42 -> 991 | I16: ='1 lentele'!P42 -> 991
A17: 3 | B17: 6 | C17: 1 | D17: 1 | E17: Įgyvendintų projektų skaičius | F17: P-6-1-1-9 | G17: ='1 lentele'!N44 -> 2 | H17: ='1 lentele'!O44 -> 1 | I17: ='1 lentele'!P44 -> 1
A18: 3 | B18: 6 | C18: 1 | D18: 1 | E18: Atnaujintų ar naujai įrengtų viešųjų erdvių ir kraštovaizdžio objektų skaičius | F18: P-6-1-1-10 | G18: ='1 lentele'!N47 -> 3 | H18: ='1 lentele'!O47 -> 6 | I18: ='1 lentele'!P47 -> 2
A19: 3 | B19: 6 | C19: 1 | D19: 1 | E19: Panaudota lėšų priemonių įgyvendinimui (proc.) | F19: P-6-1-1-11 | G19: =SUM('1 lentele'!N51) -> 100 | H19: =SUM('1 lentele'!O51) -> 100 | I19: =SUM('1 lentele'!P51) -> 100
A20: 3 | B20: 6 | C20: 1 | D20: 1 | E20: Atnaujintų įstaigų ir savivaldybės kontroliuojamų bendrovių skaičius | F20: P-6-1-1-12 | G20: =SUM('1 lentele'!N53) -> 5 | H20: =SUM('1 lentele'!O53) -> 5 | I20: =SUM('1 lentele'!P53) -> 4
A21: 3 | B21: 6 | C21: 1 | D21: 1 | E21: Išnuomotų būstų skaičius | F21: P-6-1-1-13 | G21: =SUM('1 lentele'!N55) -> 2 | H21: =SUM('1 lentele'!O55) -> 2 | I21: =SUM('1 lentele'!P55) -> 3
A22: 3 | B22: 6 | C22: 1 | D22: 1 | E22: Atnaujintos vandens ir nuotekų infrastruktūros ilgis, m | F22: P-6-1-1-14 | G22: =SUM('1 lentele'!N57:N58) -> 200 | H22: =SUM('1 lentele'!O57:O58) -> 500 | I22: =SUM('1 lentele'!P57:P58) -> 800
A23: 3 | B23: 6 | C23: 1 | D23: 1 | E23: Atnaujintos susisiekimo infrastruktūros ilgis, m | F23: P-6-1-1-15 | G23: =SUM('1 lentele'!N59:N60) -> 0 | H23: =SUM('1 lentele'!O59:O60) -> 100 | I23: =SUM('1 lentele'!P59:P60) -> 200
A24: 3 | B24: 6 | C24: 1 | D24: 1 | E24: Atnaujintų objektų skaičius | F24: P-6-1-1-16 | G24: =SUM('1 lentele'!N60:N61) -> 0 | H24: =SUM('1 lentele'!O60:O61) -> 1 | I24: =SUM('1 lentele'!P60:P61) -> 1
A25: 3 | B25: 6 | C25: 1 | D25: 2 | E25: Atliktų kadastrinių matavimų ir topografinių nuotraukų skaičius | F25: P-6-1-2-1 | G25: ='1 lentele'!N65 -> 20 | H25: ='1 lentele'!O65 -> 21 | I25: ='1 lentele'!P65 -> 22
A26: 3 | B26: 6 | C26: 1 | D26: 2 | E26: Parengtų projektų įgyvendinimo dokumentų skaičius | F26: P-6-1-2-2 | G26: ='1 lentele'!N68 -> 8 | H26: ='1 lentele'!O68 -> 7 | I26: ='1 lentele'!P68 -> 7
E28: _____________
