Workbook

Sheet 1b tesinys
A1: UGDYMO KOKYBĖS IR MOKYMOSI APLINKOS UŽTIKRINIMO PROGRAMOS LĖŠŲ POREIKIS (ASIGNAVIMAI) IR NUMATOMI FINANSAVIMO ŠALTINIAI
A2: (tūkst. Eur)
A3: Ekonominės klasifikacijos grupės | B3: 2022 m. projektas | C3: 2023 m. projektas | D3: 2024 m. projektas
A7: 1. Iš viso asignavimų | B7: =SUM('1 lentele'!G58) -> 7717.7 | C7: =SUM('1 lentele'!I58) -> 8040.8 | D7: =SUM('1 lentele'!K58) -> 8086.3
A8: 1.1. iš jų darbo užmokesčiui | B8: ='1 lentele'!H58 -> 6565 | C8: ='1 lentele'!J58 -> 6578 | D8: ='1 lentele'!L58 -> 6604.5
A9: 2. Finansavimo šaltiniai: | B9: =B10+B19 -> 7717.7 | C9: =C10+C19 -> 8040.8 | D9: =D10+D19 -> 8086.3
A10: 2.1. Savivaldybės biudžetas: | B10: =B11+B12+B17+B18 -> 7717.7 | C10: =C11+C12+C17+C18 -> 7849.6 | D10: =D11+D12+D17+D18 -> 7895
A11: 2.1.1. Savivaldybės biudžeto asignavimai savarankiškosioms funkcijoms vykdyti | B11: ='1 lentele'!G53 -> 3664.6 | C11: ='1 lentele'!I53 -> 3766.3 | D11: ='1 lentele'!K53 -> 3798.8
A12: 2.1.2. Valstybės biudžeto dotacija | B12: =B14+B15+B16 -> 3866.7 | C12: =C14+C15+C16 -> 3900.5 | D12: =D14+D15+D16 -> 3911.2
A13: iš jos:
A14: 2.1.2.1. valstybinėms (perduotoms savivaldybėms) funkcijoms vykdyti
A15: 2.1.2.2. mokinio krepšeliui finansuoti | B15: ='1 lentele'!G54 -> 3779.7 | C15: ='1 lentele'!I54 -> 3795.7 | D15: ='1 lentele'!K54 -> 3806.7
A16: 2.1.2.3. kita tikslinė dotacija | B16: ='1 lentele'!G55 -> 87 | C16: ='1 lentele'!I55 -> 104.8 | D16: ='1 lentele'!K55 -> 104.5
A17: 2.1.3. Biudžetinių įstaigų pajamos | B17: ='1 lentele'!G57 -> 186.4 | C17: ='1 lentele'!I57 -> 182.8 | D17: ='1 lentele'!K57 -> 185
A18: 2.1.4. Skolintos lėšos
A19: 2.2. Kiti šaltiniai: | B19: =SUM(B20:B25) -> 0 | C19: =SUM(C20:C25) -> 191.2 | D19: =SUM(D20:D25) -> 191.3
A20: 2.2.1. Savivaldybės privatizavimo fondas
A21: 2.2.2. Valstybės biudžeto lėšos
A22: 2.2.3. ES lėšos | B22: =SUM('1 lentele'!G56) -> 0 | C22: =SUM('1 lentele'!I56) -> 191.2 | D22: =SUM('1 lentele'!K56) -> 191.3
A23: 2.2.4. Kelių priežiūros ir plėtros programos lėšos
A24: 2.2.5. Privalomojo sveikatos draudimo fondo lėšos
A25: 2.2.6. Kitos lėšos

Sheet 1 lentele
M1: Ugdymo kokybės ir mokymosi aplinkos užtikrinimo programos suvestinės priedas
A2: 1 lentelė
A3: IGNALINOS RAJONO SAVIVALDYBĖS
A4: (savivaldybės, padalinio, įstaigos pavadinimas)
A5: UGDYMO KOKYBĖS IR MOKYMOSI APLINKOS UŽTIKRINIMO PROGRAMOS NR. 1
A6: TIKSLŲ, UŽDAVINIŲ, PRIEMONIŲ MAKSIMALIŲ ASIGNAVIMŲ IR PRODUKTO VERTINIMO KRITERIJŲ SUVESTINĖ
A7: tūkst. Eur
A8: Programos tikslo kodas | B8: Uždavinio kodas | C8: Priemonės kodas | D8: Priemonės pavadinimas | E8: Priemonės vykdytojo kodas | F8: Finansavimo šaltinis | G8: 2022 m. projektas | I8: 2023 m. projektas | K8: 2024 m. projektas | M8: Uždavinio vertinimo kriterijaus
G9: Iš viso | H9: Iš jų darbo užmokesčiui | I9: Iš viso | J9: Iš jų darbo užmokesčiui | K9: Iš viso | L9: Iš jų darbo užmokesčiui | M9: Pavadinimas | N9: planas
N10: 2022 m. | O10: 2023 m. | P10: 2024 m.
A11: 1 Strateginis tikslas. Gerinti švietimo, socialinių ir sveikatos priežiūros paslaugų kokybę ir prieinamumą
A12: 1 programa. Ugdymo kokybės ir mokymosi aplinkos užtikrinimo programa
A13: 1 | B13: Užtikrinti aukštą švietimo ir ugdymo paslaugų kokybę ir prieinamumą
A14: 1 | B14: 1 | C14: Užtikrinti ugdymo programų įgyvendinimą, gerinti ugdymo procesą
A15: 1 | B15: 1 | C15: 1 | D15: Ikimokyklinio, priešmokyklinio ugdymo ir bendrųjų ugdymo programų planų įgyvendinimas savivaldybės bendrojo ugdymo mokyklose, jų aplinkos išlaikymas | E15: 7-10 | F15: SB | G15: 2607.2 | H15: 1994.1 | I15: 2620 | J15: 2000 | K15: 2650 | L15: 2020 | M15: Mokyklų, kuriose įgyvendinti ikimokyklinio, priešmokyklinio ir bendrojo ugdymo programų planai, skaičius | N15: 4 | O15: 4 | P15: 4
F16: SB(SD) | G16: 3712.3 | H16: 3571.6 | I16: 3720 | J16: 3575 | K16: 3730 | L16: 3580
F17: SB(KD) | G17: 30.1 | H17: 27.6 | I17: 46.2 | J17: 18 | K17: 46.2 | L17: 18
F18: SB(BĮP) | G18: 107 | H18: 0 | I18: 103 | J18: 1 | K18: 104 | L18: 1.2
F19: iš viso: | G19: =SUM(G15:G18) -> 6456.6 | H19: =SUM(H15:H18) -> 5593.3 | I19: =SUM(I15:I18) -> 6489.2 | J19: =SUM(J15:J18) -> 5594 | K19: =SUM(K15:K18) -> 6530.2 | L19: =SUM(L15:L18) -> 5619.2
A20: 1 | B20: 1 | C20: 2 | D20: Neformaliojo švietimo programų įgyvendinimas neformalųjį švietimą teikiančiose įstaigose, jų aplinkos išlaikymas | E20: 1, 14, 16 | F20: SB | G20: 872 | H20: 815.7 | I20: 880 | J20: 820 | K20: 880 | L20: 820 | M20: Neformaliojo švietimo įstaigų, kuriose įgyvendintos neformaliojo švietimo programos, skaičius | N20: 2 | O20: 2 | P20: 2
F21: SB (KD) | G21: 54 | I21: 55 | K21: 55
F22: SB(BĮP) | G22: 76.7 | H22: 3.5 | I22: 77 | J22: 3.6 | K22: 78 | L22: 3.8
F23: SB(SD) | G23: 23.6 | H23: 23.3 | I23: 31.5 | J23: 30 | K23: 31.5 | L23: 30
F24: iš viso: | G24: =SUM(G20:G23) -> 1026.3 | H24: =SUM(H20:H23) -> 842.5 | I24: =SUM(I20:I23) -> 1043.5 | J24: =SUM(J20:J23) -> 853.6 | K24: =SUM(K20:K23) -> 1044.5 | L24: =SUM(L20:L23) -> 853.8
A25: 1 | B25: 1 | C25: 3 | D25: Mokymosi pasiekimų patikrinimas ir organizavimas | E25: 8 | F25: SB(SD) | G25: 2.1 | H25: 2.1 | I25: 2.2 | J25: 2.2 | K25: 2.2 | L25: 2.2 | M25: Brandos egzaminus laikiusių abiturientų skaičius | N25: 80 | O25: 75 | P25: 75
F26: iš viso: | G26: =SUM(G25:G25) -> 2.1 | H26: =SUM(H25:H25) -> 2.1 | I26: =SUM(I25:I25) -> 2.2 | J26: =SUM(J25:J25) -> 2.2 | K26: =SUM(K25:K25) -> 2.2 | L26: =SUM(L25:L25) -> 2.2
A27: 1 | B27: 1 | C27: 4 | D27: Reikalingų specialistų Ignalinos rajonui rėmimas, skiriant išmokas studentams | E27: 1.1, 1.10 | F27: SB | G27: 6.6 | I27: 10 | K27: 10 | M27: Remiamų studentų skaičius | N27: 4 | O27: 4 | P27: 4
F28: iš viso: | G28: =SUM(G27:G27) -> 6.6 | H28: =SUM(H27:H27) -> 0 | I28: =SUM(I27:I27) -> 10 | J28: =SUM(J27:J27) -> 0 | K28: =SUM(K27:K27) -> 10 | L28: =SUM(L27:L27) -> 0 | M28: Pirmus metus po studijų įsidarbinusių savivaldybės įstaigose ir paramą gavusių asmenų skaičius | N28: 2 | O28: 2 | P28: 2
A29: 1 | B29: 1 | C29: 5 | D29: Ignalinos krašto metų mokytojo vardo suteikimas ir premijų skyrimas | E29: 1.1, 1.10 | F29: SB | G29: 1 | I29: 1 | K29: 1 | M29: Paskatintų mokytojų skaičius | N29: 2 | O29: 2 | P29: 2
F30: iš viso: | G30: =SUM(G29:G29) -> 1 | H30: =SUM(H29:H29) -> 0 | I30: =SUM(I29:I29) -> 1 | J30: =SUM(J29:J29) -> 0 | K30: =SUM(K29:K29) -> 1 | L30: =SUM(L29:L29) -> 0
A31: 1 | B31: 1 | C31: 6 | D31: Gabių ir talentingų mokinių skatinimas | E31: 1.1, 1.10 | F31: SB | G31: 1 | I31: 1.1 | K31: 1.2 | M31: Paskatintų mokinių skaičius | N31: 8 | O31: 9 | P31: 10
F32: iš viso: | G32: =SUM(G31:G31) -> 1 | H32: =SUM(H31:H31) -> 0 | I32: =SUM(I31:I31) -> 1.1 | J32: =SUM(J31:J31) -> 0 | K32: =SUM(K31:K31) -> 1.2 | L32: =SUM(L31:L31) -> 0
A33: 1 | B33: 1 | C33: 7 | D33: Mokymosi plaukti organizavimas | E33: 1.10 | F33: SB | G33: 7.8 | I33: 15.7 | K33: 15.1 | M33: Vaikų, besimokiusių plaukti, skaičius | N33: 237 | O33: 461 | P33: 440
F34: SB (KD) | G34: 2.9 | I34: 3.6 | K34: 3.3
F35: iš viso: | G35: =SUM(G33:G33) -> 7.8 | H35: =SUM(H33:H33) -> 0 | I35: =SUM(I33:I33) -> 15.7 | J35: =SUM(J33:J33) -> 0 | K35: =SUM(K33:K33) -> 15.1 | L35: =SUM(L33:L33) -> 0
A36: 1 | B36: 1 | C36: Iš viso uždaviniui: | G36: =SUM(G19+G24+G26+G28+G30+G32)+G35 -> 7501.4 | H36: =SUM(H19+H24+H26+H28+H30+H32)+H35 -> 6437.9 | I36: =SUM(I19+I24+I26+I28+I30+I32)+I35 -> 7562.7 | J36: =SUM(J19+J24+J26+J28+J30+J32)+J35 -> 6449.8 | K36: =SUM(K19+K24+K26+K28+K30+K32)+K35 -> 7604.2 | L36: =SUM(L19+L24+L26+L28+L30+L32)+L35 -> 6475.2 | M36: - | N36: - | O36: - | P36: -
A37: 1 | B37: 2 | C37: Formuoti kokybišką ir prieinamą ugdymo aplinką
A38: 1 | B38: 2 | C38: 1 | D38: Švietimo ir pedagoginės psichologinės pagalbos teikimas savivaldybės švietimo įstaigų mokiniams ir mokytojams | E38: 15 | F38: SB | G38: 105 | H38: 86 | I38: 106 | J38: 87 | K38: 108 | L38: 88 | M38: Pagalbą gavusių mokinių, mokinių tėvų ir mokytojų skaičius | N38: 350 | O38: 345 | P38: 340
F39: SB(SD) | G39: 41.7 | H39: 41.1 | I39: 42 | J39: 41.2 | K39: 43 | L39: 41.3
F40: SB(BĮP) | G40: 2.7 | I40: 2.8 | K40: 3
F41: iš viso: | G41: =SUM(G38:G40) -> 149.4 | H41: =SUM(H38:H40) -> 127.1 | I41: =SUM(I38:I40) -> 150.8 | J41: =SUM(J38:J40) -> 128.2 | K41: =SUM(K38:K40) -> 154 | L41: =SUM(L38:L40) -> 129.3
A42: 1 | B42: 2 | C42: 2 | D42: Mokinių pavėžėjimas | E42: 8-10 | F42: SB | G42: 64 | I42: 65 | K42: 66 | M42: Pavėžėtų mokinių skaičius | N42: 384 | O42: 380 | P42: 375
F43: iš viso: | G43: =SUM(G42:G42) -> 64 | H43: =SUM(H42:H42) -> 0 | I43: =SUM(I42:I42) -> 65 | J43: =SUM(J42:J42) -> 0 | K43: =SUM(K42:K42) -> 66 | L43: =SUM(L42:L42) -> 0
A44: 1 | B44: 2 | C44: 3 | D44: Ugdymo kokybės gerinimo projektų įgyvendinimas | E44: 1.10 | F44: SB | I44: 67.5 | K44: 67.5 | M44: Įgyvendintų projektų skaičius | N44: 0 | O44: 0 | P44: 3
F45: SB (ES) | I45: 191.2 | K45: 191.3
F46: iš viso: | G46: =SUM(G44:G44) -> 0 | H46: =SUM(H44:H44) -> 0 | I46: =SUM(I44:I45) -> 258.7 | J46: =SUM(J44:J45) -> 0 | K46: =SUM(K44:K45) -> 258.8 | L46: =SUM(L44:L45) -> 0
A47: 1 | B47: 2 | C47: Iš viso uždaviniui: | G47: =G41+G43+G46 -> 213.4 | H47: =H41+H43+H46 -> 127.1 | I47: =I41+I43+I46 -> 474.5 | J47: =J41+J43+J46 -> 128.2 | K47: =K41+K43+K46 -> 478.8 | L47: =L41+L43+L46 -> 129.3 | M47: - | N47: - | O47: - | P47: -
A48: 1 | B48: Iš viso tikslui: | G48: =G36+G47 -> 7714.8 | H48: =H36+H47 -> 6565 | I48: =I36+I47 -> 8037.2 | J48: =J36+J47 -> 6578 | K48: =K36+K47 -> 8083 | L48: =L36+L47 -> 6604.5 | M48: - | N48: - | O48: - | P48: -
A49: Iš viso programai: | G49: =G48 -> 7714.8 | H49: =H48 -> 6565 | I49: =I48 -> 8037.2 | J49: =J48 -> 6578 | K49: =K48 -> 8083 | L49: =L48 -> 6604.5 | M49: - | N49: - | O49: - | P49: -
A53: Finansavimo šaltiniai | C53: Savivaldybės biudžeto lėšos | F53: SB | G53: =G15+G20+G38+G42+G27+G29+G31+G44+G33 -> 3664.6 | H53: =H15+H20+H38+H42+H27+H29+H31+H44+H33 -> 2895.8 | I53: =I15+I20+I38+I42+I27+I29+I31+I44+I33 -> 3766.3 | J53: =J15+J20+J38+J42+J27+J29+J31+J44+J33 -> 2907 | K53: =K15+K20+K38+K42+K27+K29+K31+K44+K33 -> 3798.8 | L53: =L15+L20+L38+L42+L27+L29+L31+L44+L33 -> 2928
C54: Speciali tikslinė dotacija ugdymo reikmėms | F54: SB (SD) | G54: =G16+G23+G25+G39 -> 3779.7 | H54: =H16+H23+H25+H39 -> 3638.1 | I54: =I16+I23+I25+I39 -> 3795.7 | J54: =J16+J23+J25+J39 -> 3648.4 | K54: =K16+K23+K25+K39 -> 3806.7 | L54: =L16+L23+L25+L39 -> 3653.5
C55: Kita tikslinė dotacija | F55: SB (KD) | G55: =G17+G21+G34 -> 87 | H55: =H17+H21+H34 -> 27.6 | I55: =I17+I21+I34 -> 104.8 | J55: =J17+J21+J34 -> 18 | K55: =K17+K21+K34 -> 104.5 | L55: =L17+L21+L34 -> 18
C56: Europos Sąjungos lėšos | F56: SB (ES) | G56: =SUM(G45) -> 0 | H56: =SUM(H45) -> 0 | I56: =SUM(I45) -> 191.2 | J56: =SUM(J45) -> 0 | K56: =SUM(K45) -> 191.3 | L56: =SUM(L45) -> 0
C57: Biudžetinių įstaigų pajamos | F57: SB (BĮP) | G57: =G18+G22+G40 -> 186.4 | H57: =H18+H22+H40 -> 3.5 | I57: =I18+I22+I40 -> 182.8 | J57: =J18+J22+J40 -> 4.6 | K57: =K18+K22+K40 -> 185 | L57: =L18+L22+L40 -> 5
G58: =SUM(G53:G57) -> 7717.7 | H58: =SUM(H53:H57) -> 6565 | I58: =SUM(I53:I57) -> 8040.8 | J58: =SUM(J53:J57) -> 6578 | K58: =SUM(K53:K57) -> 8086.3 | L58: =SUM(L53:L57) -> 6604.5

Sheet 2 lentele
A2: 2 lentelė
A3: UGDYMO KOKYBĖS IR MOKYMOSI APLINKOS UŽTIKRINIMO PROGRAMOS VERTINIMO KRITERIJŲ SUVESTINĖ
A4: (programos pavadinimas)
A6: Strateginio tikslo kodas | B6: Programos kodas | C6: Programos tikslo kodas | D6: Uždavinio kodas | E6: Vertinimo kriterijus | F6: Vertinimo kriterijaus kodas | G6: 2022 m. planas | H6: 2023 m. planas | I6: 2024 m. planas
A7: 1 | E7: Mokinių, įgijusių pradinį arba pagrindinį arba vidurinį išsilavinimą, dalis nuo baigusių atitinkamą programą mokinių skaičiaus (proc.) | F7: E-1-1 | G7: 98 | H7: 98 | I7: 98
A8: 1 | B8: 1 | C8: 1 | E8: Savivaldybės finansuojamose ikimokyklinio ugdymo įstaigose ugdomų 1–6 metų vaikų dalis, palyginti su faktiškai rajone gyvenančių to amžiaus vaikų skaičiumi (proc.) | F8: R-1-1-1 | G8: 50 | H8: 50 | I8: 50
A9: 1 | B9: 1 | C9: 1 | E9: Savivaldybės finansuojamose neformaliojo švietimo įstaigose ugdomų mokinių dalis nuo bendrojo ugdymo mokyklų mokinių (proc.) | F9: R-1-1-2 | G9: 27 | H9: 27 | I9: 28
A10: 1 | B10: 1 | C10: 1 | E10: Mokinių skaičiaus vidurkis klasėse pagal koncentrus (pradinio arba pagrindinio arba vidurinio) | F10: R-1-1-3 | G10: 17 | H10: 17 | I10: 17
A11: 1 | B11: 1 | C11: 1 | D11: 1 | E11: Mokyklų, kuriose įgyvendinti ikimokyklinio, priešmokyklinio ir bendrojo ugdymo programų planai, skaičius | F11: P-1-1-1-1 | G11: ='1 lentele'!N15 -> 4 | H11: ='1 lentele'!O15 -> 4 | I11: ='1 lentele'!P15 -> 4
A12: 1 | B12: 1 | C12: 1 | D12: 1 | E12: Neformaliojo švietimo įstaigų, kuriose įgyvendintos neformaliojo švietimo programos, skaičius | F12: P-1-1-1-2 | G12: ='1 lentele'!N20 -> 2 | H12: ='1 lentele'!O20 -> 2 | I12: ='1 lentele'!P20 -> 2
A13: 1 | B13: 1 | C13: 1 | D13: 1 | E13: Brandos egzaminus laikiusių abiturientų skaičius | F13: P-1-1-1-3 | G13: =SUM('1 lentele'!N25:N26) -> 80 | H13: =SUM('1 lentele'!O25:O26) -> 75 | I13: =SUM('1 lentele'!P25:P26) -> 75
A14: 1 | B14: 1 | C14: 1 | D14: 1 | E14: Remiamų studentų skaičius | F14: P-1-1-1-4 | G14: =SUM('1 lentele'!N27) -> 4 | H14: =SUM('1 lentele'!O27) -> 4 | I14: =SUM('1 lentele'!P27) -> 4
A15: 1 | B15: 1 | C15: 1 | D15: 1 | E15: Pirmus metus po studijų įsidarbinusių savivaldybės įstaigose ir paramą gavusių asmenų skaičius | F15: P-1-1-1-5 | G15: =SUM('1 lentele'!N28) -> 2 | H15: =SUM('1 lentele'!O28) -> 2 | I15: =SUM('1 lentele'!P28) -> 2
A16: 1 | B16: 1 | C16: 1 | D16: 1 | E16: Paskatintų mokytojų skaičius | F16: P-1-1-1-6 | G16: =SUM('1 lentele'!N29:N30) -> 2 | H16: =SUM('1 lentele'!O29:O30) -> 2 | I16: =SUM('1 lentele'!P29:P30) -> 2
A17: 1 | B17: 1 | C17: 1 | D17: 1 | E17: Paskatintų mokinių skaičius | F17: P-1-1-1-7 | G17: =SUM('1 lentele'!N30:N31) -> 8 | H17: =SUM('1 lentele'!O30:O31) -> 9 | I17: =SUM('1 lentele'!P30:P31) -> 10
B18: 1 | C18: 1 | D18: 1 | E18: Vaikų, besimokiusių plaukti, skaičius | F18: P-1-1-1-8 | G18: =SUM('1 lentele'!N33:N35) -> 237 | H18: =SUM('1 lentele'!O33:O35) -> 461 | I18: =SUM('1 lentele'!P33:P35) -> 440
A19: 1 | B19: 1 | C19: 1 | D19: 2 | E19: Pagalbą gavusių mokinių, mokinių tėvų ir mokytojų skaičius | F19: P-1-1-2-1 | G19: ='1 lentele'!N38 -> 350 | H19: ='1 lentele'!O38 -> 345 | I19: ='1 lentele'!P38 -> 340
A20: 1 | B20: 1 | C20: 1 | D20: 2 | E20: Pavėžėtų mokinių skaičius | F20: P-1-1-2-2 | G20: ='1 lentele'!N42 -> 384 | H20: ='1 lentele'!O42 -> 380 | I20: ='1 lentele'!P42 -> 375
A21: 1 | B21: 1 | C21: 1 | D21: 2 | E21: Įgyvendintų projektų skaičius | F21: P-1-1-2-3 | G21: ='1 lentele'!N43+SUM('1 lentele'!N44:N46) -> 0 | H21: ='1 lentele'!O43+SUM('1 lentele'!O44:O46) -> 0 | I21: ='1 lentele'!P43+SUM('1 lentele'!P44:P46) -> 3
E22: _________________________
